BEGIN:VCALENDAR
VERSION:2.0
PRODID:icalendar-ruby
CALSCALE:GREGORIAN
METHOD:PUBLISH
BEGIN:VEVENT
DTSTAMP:20260425T142101Z
UID:140-418376@shottawa.org
DTSTART:20260509T210000Z
DTEND:20260509T220000Z
CLASS:PUBLIC
CREATED:20260411T233201
DESCRIPTION:
LAST-MODIFIED:20260411T233201
LOCATION:
SUMMARY:Saturday Vigil Mass
URL;VALUE=URI:https://www.shottawa.org/events/saturday-vigil-mass--140/2026
 -05-09
END:VEVENT
END:VCALENDAR
