BEGIN:VCALENDAR
VERSION:2.0
PRODID:icalendar-ruby
CALSCALE:GREGORIAN
METHOD:PUBLISH
BEGIN:VEVENT
DTSTAMP:20260421T123132Z
UID:84-436909@shottawa.org
DTSTART:20260421T223000Z
DTEND:20260421T233000Z
CLASS:PUBLIC
CREATED:20260420T122147
DESCRIPTION:Parishioners are welcome to attend the Pastoral Advisory Counci
 l meetings. If you would like to join us 15 minutes before the meeting\, F
 ather Clem leads us in Evening Prayer. 
LAST-MODIFIED:20260420T122147
LOCATION:Sacred Heart Parish Center
SUMMARY:Pastoral Advisory Council Meeting
URL;VALUE=URI:https://www.shottawa.org/events/pastoral-advisory-council-mee
 ting/2026-04-21
END:VEVENT
END:VCALENDAR
