BEGIN:VCALENDAR
VERSION:2.0
PRODID:icalendar-ruby
CALSCALE:GREGORIAN
METHOD:PUBLISH
BEGIN:VEVENT
DTSTAMP:20260420T023912Z
UID:143-434363@shottawa.org
DTSTART:20260424T010000Z
DTEND:20260424T130500Z
CLASS:PUBLIC
CREATED:20260419T151650
DESCRIPTION:We will have Adoration of the Blessed Sacrament throughout the 
 night from Thursday\, April 23\, at 8:00 PM to Friday\, April 24\, at 8:05
  AM. \nTo sign up for one hour of Adoration\, go to: https://tinyurl.com/A
 doration-SH
LAST-MODIFIED:20260419T151650
LOCATION:
SUMMARY:Overnight Adoration of the Blessed Sacrament
URL;VALUE=URI:https://www.shottawa.org/events/overnight-adoration-of-the-bl
 essed-sacrament/2026-04-23
END:VEVENT
END:VCALENDAR
