BEGIN:VCALENDAR
VERSION:2.0
PRODID:icalendar-ruby
CALSCALE:GREGORIAN
METHOD:PUBLISH
BEGIN:VEVENT
DTSTAMP:20260425T142223Z
UID:71-408649@shottawa.org
DTSTART:20260503T150000Z
DTEND:20260503T160000Z
CLASS:PUBLIC
CREATED:20260407T152143
DESCRIPTION:
LAST-MODIFIED:20260407T152143
LOCATION:Sacred Heart Parish Center
SUMMARY:Hospitality Sunday
URL;VALUE=URI:https://www.shottawa.org/events/hospitality-sunday/2026-05-03
END:VEVENT
END:VCALENDAR
