BEGIN:VCALENDAR
VERSION:2.0
PRODID:icalendar-ruby
CALSCALE:GREGORIAN
METHOD:PUBLISH
BEGIN:VEVENT
DTSTAMP:20260420T025101Z
UID:141-433995@shottawa.org
DTSTART:20260423T194500Z
DTEND:20260423T204500Z
CLASS:PUBLIC
CREATED:20260419T094945
DESCRIPTION:Patrick Sabat\, the primary custodian of the International Pilg
 rim Virgin Statue\, will be sharing the message of hope\, peace\, and salv
 ation\, bringing the graces of Fatima to those who may never travel to Fat
 ima\, Portugal.
LAST-MODIFIED:20260419T094945
LOCATION:Sacred Heart Church
SUMMARY:Fatima Presentation
URL;VALUE=URI:https://www.shottawa.org/events/fatima-presentation/2026-04-2
 3
END:VEVENT
END:VCALENDAR
