BEGIN:VCALENDAR
VERSION:2.0
PRODID:icalendar-ruby
CALSCALE:GREGORIAN
METHOD:PUBLISH
BEGIN:VEVENT
DTSTAMP:20260420T133937Z
UID:142-433996@shottawa.org
DTSTART:20260424T134500Z
DTEND:20260425T014500Z
CLASS:PUBLIC
CREATED:20260419T095051
DESCRIPTION:Patrick Sabat\, the primary custodian of the International Pilg
 rim Virgin Statue\, will be sharing the message of hope\, peace\, and salv
 ation\, bringing the graces of Fatima to those who may never travel to Fat
 ima\, Portugal.
LAST-MODIFIED:20260419T095051
LOCATION:Sacred Heart Church
SUMMARY:Fatima Presentation
URL;VALUE=URI:https://www.shottawa.org/events/fatima-presentation--142/2026
 -04-24
END:VEVENT
END:VCALENDAR
